Workbook

Sheet MURO CAMPO DO VX
A1: PREFEITURA MUNICIPAL DE LARANJAL
A2: CNPJ: 17.947.615/0001-22
A3: Rua: Norberto Berno, 85 – Centro – CEP 36.760-000 – Laranjal – MG
C4: Telefax: (32) 3424-1387 / 3424-1919
B5: PLANILHA ORÇAMENTÁRIA DE CUSTOS
A6: OBRA: | B6: MURO DE VEDAÇÃO DO CAMPO DE FUTEBOL XV DE NOVEMBRO | F6: DATA: | G6: 45992
A7: REFERÊNCIA: | C7: SINAP 02/2025- DESONERADA | F7: BDI:24,18%
H8: BDI 25%
A11: ITEM | B11: CÓDIGO | C11: DESCRIÇÃO | D11: UNID | E11: QUANT. | F11: PREÇO UNIT. R$ | G11: PREÇO UNIT. R$ | H11: VALOR
E12: (A) | F12: (B) | G12: COM BDI | H12: (C) = (A ) x (B)
C13: MURO DE BLOCO DE CONCRETO - 30 m
A14: 1.0 | C14: INSTALAÇÕES INICIAIS DA OBRA
A15: 1.1 | B15: 4813 | C15: PLACA DE OBRA (PARA CONSTRUCAO CIVIL) EM CHAPA GALVANIZADA *N. 22*, ADESIVADA, DE *2,4 X 1,2* M (SEM POSTES PARA FIXACAO) | D15: M2 | E15: 3 | F15: 442.5 | G15: =F15*1.2418 -> 549.4965 | H15: =G15*E15 -> 1648.4895
C16: TOTAL DO ITEM | H16: =H15 -> 1648.4895 | L16: =2.4*1.2 -> 2.88
A17: 2.0 | C17: MOVIMENTO EM TERRA
A18: 2.1 | B18: 96522 | C18: ESCAVAÇÃO MANUAL PARA BLOCO DE COROAMENTO OU SAPATA (SEM ESCAVAÇÃO PARA COLOCAÇÃO DE FÔRMAS). AF_01/2024 | D18: M3 | E18: =(11*1*1*1) -> 11 | F18: 141.034 | G18: =F18*1.2418 -> 175.13602 | H18: =G18*E18 -> 1926.4962
A19: 2.2 | B19: 96527 | C19: ESCAVAÇÃO MANUAL PARA VIGA BALDRAME OU SAPATA CORRIDA (INCLUINDO ESCAVAÇÃO PARA COLOCAÇÃO DE FÔRMAS). AF_01/2024 | D19: M3 | E19: 2 | F19: 102.244 | G19: =F19*1.2418 -> 126.9666 | H19: =G19*E19 -> 253.9332
C20: TOTAL DO ITEM | H20: =SUM(H18:H19) -> 2180.4294
A21: 3.0 | C21: ESTRUTURA DO MURO
A22: 3.1 | B22: 92427 | C22: MONTAGEM E DESMONTAGEM DE FORMAS DE PILARES E ESTRUTURAS SIMILARES, EM CHAPA DE MADEIRA COMPENSADA, 8 UTILIZAÇÕES | D22: M2 | E22: 52 | F22: 63.6604 | G22: =F22*1.2418 -> 79.053485 | H22: =G22*E22 -> 4110.7812
A23: 3.2 | B23: 96619 | C23: LASTRO DE CONCRETO MAGRO, APLICADO EM BLOCOS DE COROAMENTO OU SAPATAS, ESPESSURA DE 5 CM. AF_01/2024 | D23: m2 | E23: 16 | F23: 41.534 | G23: =F23*1.2418 -> 51.576921 | H23: =G23*E23 -> 825.23074
A24: 3.3 | B24: 96557 | C24: CONCRETAGEM DE BLOCO DE COROAMENTO OU VIGA BALDRAME, FCK 30 MPA, COM USO DE BOMBA - LANÇAMENTO, ADENSAMENTO E ACABAMENTO. AF_01/2024 | D24: M3 | E24: 12 | F24: 796.88 | G24: =F24*1.2418 -> 989.56558 | H24: =G24*E24 -> 11874.787
A25: 3.4 | B25: 92762 | C25: ARMAÇÃO DE PILAR OU VIGA DE ESTRUTURA CONVENCIONAL DE CONCRETO ARMADO UTILIZANDO AÇO CA-50 DE 10,0 MM - MONTAGEM. AF_06/2022 | D25: KG | E25: 483 | F25: 10.76 | G25: =F25*1.2418 -> 13.361768 | H25: =G25*E25 -> 6453.7339
A26: 3.5 | B26: 92759 | C26: ARMAÇÃO DE PILAR OU VIGA DE ESTRUTURA CONVENCIONAL DE CONCRETO ARMADO UTILIZANDO AÇO CA-60 DE 5,0 MM - MONTAGEM. AF_06/2022 | D26: KG | E26: 133 | F26: 13.904 | G26: =F26*1.2418 -> 17.265987 | H26: =G26*E26 -> 2296.3763
A27: 3.6 | B27: 103319 | C27: ALVENARIA DE VEDAÇÃO DE BLOCOS VAZADOS DE CONCRETO DE 14X19X39 CM (ESPESSURA 14 CM) E ARGAMASSA DE ASSENTAMENTO COM PREPARO MANUAL. AF_12/2021 | D27: M2 | E27: 55 | F27: 104.03 | G27: =F27*1.2418 -> 129.18445 | H27: =E27*G27 -> 7105.145
A28: 3.7 | B28: 87893 | C28: CHAPISCO COM BRITA FINA 1:2:3 CIMENTO, AREIA E BRITA | D28: M2 | E28: =30*3 -> 90 | F28: 7.41 | G28: =F28*1.2418 -> 9.201738 | H28: =G28*E28 -> 828.15642
A29: 3.8 | B29: 104237 | C29: EMBOÇO OU MASSA ÚNICA EM ARGAMASSA TRAÇO 1:2:8, PREPARO MECÂNICA COM BETONEIRA 400 L, APLICADA MANUALMENTE EM PANOS DE FACHADA SEM PRESENÇA DE VÃOS, ESPESSURA DE 35 MM, ACESSO POR ANDAIME. AF_08/2022 | D29: M2 | E29: =E28 -> 90 | F29: 53.64 | G29: =F29*1.2418 -> 66.610152 | H29: =G29*E29 -> 5994.9137
A30: 3.9 | B30: 88489 | C30: PINTURA LÁTEX ACRÍLICA PREMIUM, APLICAÇÃO MANUAL EM PAREDES, DUAS DEMÃOS. AF_04/2023 | D30: M2 | E30: =E28 -> 90 | F30: 13.12 | G30: =F30*1.2418 -> 16.292416 | H30: =G30*E30 -> 1466.3174
C32: TOTAL DO ITEM | H32: =SUM(H22:H31) -> 40955.442
C33: TOTAL GERAL DA OBRA | H33: =H32+H20+H16 -> 44784.361
B35: VANESSA MONTES MACHADO | D35: Fernando Gonçalves dos Santos
B36: ENGENHEIRA CIVIL | D36: Prefeito Municipal
B37: CREA- MG 70595/D

Sheet memória de cálculo
A1: PREFEITURA MUNICIPAL DE LARANJAL
A2: CNPJ: 17.947.615/0001-22
A3: Rua: Norberto Berno, 85 – Centro – CEP 36.760-000 – Laranjal – MG
C4: Telefax: (32) 3424-1387 / 3424-1919
B5: MEMÓRIA DE CÁLCULO
A6: OBRA: | B6: MURO DE VEDAÇÃO DO CAMPO DE FUTEBOL XV DE NOVEMBRO | F6: DATA: | G6: 46083
A7: REFERÊNCIA: | C7: SINAP 02/2025- DESONERADA | F7: BDI:24,18%
H8: BDI 25%
A11: ITEM | B11: CÓDIGO | C11: DESCRIÇÃO | D11: UNID | E11: QUANT. | F11: DESCRIÇÃO
E12: (A)
C13: MURO DE BLOCO DE CONCRETO - 30 m
A14: 1.0 | C14: INSTALAÇÕES INICIAIS DA OBRA
A15: 1.1 | B15: 4813 | C15: PLACA DE OBRA (PARA CONSTRUCAO CIVIL) EM CHAPA GALVANIZADA *N. 22*, ADESIVADA, DE *2,4 X 1,2* M (SEM POSTES PARA FIXACAO) | D15: M2 | E15: 3 | F15: ÁREA: 2X1,5M=3 M²
A16: 2.0 | C16: MOVIMENTO EM TERRA
A17: 2.1 | B17: 96522 | C17: ESCAVAÇÃO MANUAL PARA BLOCO DE COROAMENTO OU SAPATA (SEM ESCAVAÇÃO PARA COLOCAÇÃO DE FÔRMAS). AF_01/2024 | D17: M3 | E17: =(11*1*1*1) -> 11 | F17: VOLUME DE SAPATAS=11*1*1=11 M3
A18: 2.2 | B18: 96527 | C18: ESCAVAÇÃO MANUAL PARA VIGA BALDRAME OU SAPATA CORRIDA (INCLUINDO ESCAVAÇÃO PARA COLOCAÇÃO DE FÔRMAS). AF_01/2024 | D18: M3 | E18: 2 | F18: ÁREA=30*0,15*0,4=2 M2
A19: 3.0 | C19: ESTRUTURA DO MURO
A20: 3.1 | B20: 92427 | C20: MONTAGEM E DESMONTAGEM DE FORMAS DE PILARES E ESTRUTURAS SIMILARES, EM CHAPA DE MADEIRA COMPENSADA, 8 UTILIZAÇÕES | D20: M2 | E20: 52 | F20: ÁREA DE FORMA = COLUNAS:11*0,35*3*2+VIGAS:30*0,35*2=52 M2
A21: 3.2 | B21: 96619 | C21: LASTRO DE CONCRETO MAGRO, APLICADO EM BLOCOS DE COROAMENTO OU SAPATAS, ESPESSURA DE 5 CM. AF_01/2024 | D21: m2 | E21: 16 | F21: LASTRO DE BRITA=SAPATAS:11*1*1+VIGA BALDRAME:30*0,15=16M2
A22: 3.3 | B22: 96557 | C22: CONCRETAGEM DE BLOCO DE COROAMENTO OU VIGA BALDRAME, FCK 30 MPA, COM USO DE BOMBA - LANÇAMENTO, ADENSAMENTO E ACABAMENTO. AF_01/2024 | D22: M3 | E22: 12 | F22: SAPATAS:11X1X1X0,40=4,4 M3+4X11X0,2X0,3=2,64 M3+VIGAS: 30*3*0,15*0,35=4,72 M3=TOTAL: 12 M3
A23: 3.4 | B23: 92762 | C23: ARMAÇÃO DE PILAR OU VIGA DE ESTRUTURA CONVENCIONAL DE CONCRETO ARMADO UTILIZANDO AÇO CA-50 DE 10,0 MM - MONTAGEM. AF_06/2022 | D23: KG | E23: 483 | F23: COLUNAS: 4X11X4 M=176 M+SAPATAS: 8X11X2=176 M+ VIGAS: 3*30*4=360M; TOTAL: 176+176+360=712*1,1=783 MX0,617=483 KG
A24: 3.5 | B24: 92759 | C24: ARMAÇÃO DE PILAR OU VIGA DE ESTRUTURA CONVENCIONAL DE CONCRETO ARMADO UTILIZANDO AÇO CA-60 DE 5,0 MM - MONTAGEM. AF_06/2022 | D24: KG | E24: 133 | F24: COLUNAS: (11*4)/0,15=193 PEÇAS X0,88=258 M+VIGAS: 3*30=90/0,15=600PÇX0,88=528M; TOTAL: 786*1,1=864 M*0,154=133 KG
A25: 3.6 | B25: 103319 | C25: ALVENARIA DE VEDAÇÃO DE BLOCOS VAZADOS DE CONCRETO DE 14X19X39 CM (ESPESSURA 14 CM) E ARGAMASSA DE ASSENTAMENTO COM PREPARO MANUAL. AF_12/2021 | D25: M2 | E25: 55 | F25: ÁREA DE ALVENARIA=30*3-3*30*0,35-11*0,15*3=55 M2
A26: 3.7 | B26: 87893 | C26: CHAPISCO COM BRITA FINA 1:2:3 CIMENTO, AREIA E BRITA | D26: M2 | E26: =30*3 -> 90 | F26: ÁREA: 30*3=90 M2
A27: 3.8 | B27: 104237 | C27: EMBOÇO OU MASSA ÚNICA EM ARGAMASSA TRAÇO 1:2:8, PREPARO MECÂNICA COM BETONEIRA 400 L, APLICADA MANUALMENTE EM PANOS DE FACHADA SEM PRESENÇA DE VÃOS, ESPESSURA DE 35 MM, ACESSO POR ANDAIME. AF_08/2022 | D27: M2 | E27: =E26 -> 90 | F27: ÁREA: 30*3=90 M2
A28: 3.9 | B28: 88489 | C28: PINTURA LÁTEX ACRÍLICA PREMIUM, APLICAÇÃO MANUAL EM PAREDES, DUAS DEMÃOS. AF_04/2023 | D28: M2 | E28: =E26 -> 90 | F28: ÁREA: 30*3=90 M2
B30: VANESSA MONTES MACHADO | D30: Fernando Gonçalves dos Santos
B31: ENGENHEIRA CIVIL | D31: Prefeito Municipal
B32: CREA- MG 70595/D

Sheet CRONOGRAMA
A1: PREFEITURA MUNICIPAL DE LARANJAL
A2: CNPJ: 17.947.615/0001-22
A3: Rua: Norberto Berno, 85 – Centro – CEP 36.760-000 – Laranjal – MG
A4: Telefax: (32) 3424-1387 / 3424-1919
A5: A N E X O I I
A6: CRONOGRAMA FÍSICO-FINANCEIRO
A7: CONVENENTE: Prefeitura Municipal de Laranjal | D7: VALOR DA OBRA | H7: =B17 -> 44784.361
A8: OBRA: MURO DE VEDAÇÃO DO CAMPO DE FUTEBOL XV DE NOVEMBRO
A9: ETAPAS | B9: Físico / Financeiro | C9: Mês 1 | D9: Mês 2 | E9: Mês 3 | F9: Mês 4 | G9: Mês 5 | H9: Total
A10: ='MURO CAMPO DO VX'!C14 -> INSTALAÇÕES INICIAIS DA OBRA | B10: Físico % | C10: 1 | H10: =C10+D10 -> 1
B11: ='MURO CAMPO DO VX'!H16 -> 1648.4895 | C11: =C10*B11 -> 1648.4895 | H11: =C11 -> 1648.4895
A12: ='MURO CAMPO DO VX'!C17 -> MOVIMENTO EM TERRA | B12: Físico % | C12: 1 | H12: =C12+D12+E12 -> 1
B13: ='MURO CAMPO DO VX'!H20 -> 2180.4294 | C13: =C12*B13 -> 2180.4294 | F13: =F12*D13 -> 0 | H13: =C13+D13+E13 -> 2180.4294
A14: ='MURO CAMPO DO VX'!C21 -> ESTRUTURA DO MURO | B14: Físico % | C14: 0.5 | D14: 0.5 | H14: =C14+D14 -> 1
B15: ='MURO CAMPO DO VX'!H32 -> 40955.442 | C15: =C14*B15 -> 20477.721 | D15: =D14*B15 -> 20477.721 | H15: =C15+D15+E15 -> 40955.442
A16: TOTAL COM BDI DE 24,18% | B16: Físico % | C16: =C17/B17 -> 0.54274839 | D16: =D17/B17 -> 0.45725161 | H16: =C16+D16+E16+F16+G16 -> 1
B17: =B15+B13+B11 -> 44784.361 | C17: =C15+C13+C11 -> 24306.64 | D17: =D15 -> 20477.721 | H17: =C17+D17+E17+F17+G17 -> 44784.361
A19: Responsável Técnico: Data:02/03/2026
A20: Nome: VANESSA MONTES MACHADO ENGENHEIRA CIVIL
A21: CREA- MG 70595/D
A22: Assinatura:
