Workbook
Name AREA: #REF!
Name AREA: #REF!
Name AREA: #REF!
Name AREA: #REF!
Name AREA: #REF!
Name AREA: #REF!
Name AREA: #REF!
Name ASDERR: #REF!
Name ASDERR: #REF!
Name ASDERR: #REF!
Name ASDERR: #REF!
Name ASDERR: #REF!
Name ASDERR: #REF!
Name BDI: #REF!
Name BDI: #REF!
Name BDI: #REF!
Name BDI: #REF!
Name BDI: #REF!
Name BDI: #REF!
Name BDI: #REF!
Name BDI: #REF!
Name P.1: #REF!
Name P.1: #REF!
Name P.1: #REF!
Name P.1: #REF!
Name P.1: #REF!
Name P.1: #REF!
Name P.1: #REF!
Name P.1: #REF!
Name P.10: #REF!
Name P.10: #REF!
Name P.10: #REF!
Name P.10: #REF!
Name P.10: #REF!
Name P.10: #REF!
Name P.10: #REF!
Name P.10: #REF!
Name P.11: #REF!
Name P.11: #REF!
Name P.11: #REF!
Name P.11: #REF!
Name P.11: #REF!
Name P.11: #REF!
Name P.11: #REF!
Name P.11: #REF!
Name P.12: #REF!
Name P.12: #REF!
Name P.12: #REF!
Name P.12: #REF!
Name P.12: #REF!
Name P.12: #REF!
Name P.12: #REF!
Name P.12: #REF!
Name P.13: #REF!
Name P.13: #REF!
Name P.13: #REF!
Name P.13: #REF!
Name P.13: #REF!
Name P.13: #REF!
Name P.13: #REF!

Sheet CPU 01
C1: PREFEITURA MUNICIPAL DE LARANJAL
C2: RUA NORBERTO BERNO, 85, CENTRO - LARANJAL - MG
C3: CNPJ n°:17.947.615/0001-22
C4: Telefones: (32) 3424-13857 | D4: Telefones: (32) 3424-1385/1387
A6: SEINFRA REGIÃO LESTE COM DESONERAÇÃO ABRIL DE 2023
A7: COMPOSIÇÃO DE CUSTO UNITÁRIO
A8: CPU 01 | C8: CAIXA DE PASSAGEM EM ALVENARIA E TAMPA DE CONCRETO, FUNDO DE BRITA, TIPO 0,50X0,4X0,4 CM, INCLUSIVE ESCAVAÇÃO, REATERRO E BOTA FORA | E8: M
A9: FONTE | B9: TIPO | C9: CÓDIGO | D9: DESCRIÇÃO | E9: UNIDADE | F9: ÍNDICE | G9: PREÇO UNITÁRIO | H9: PREÇO TOTAL
A10: SEINFRA | C10: MATTED11250 | D10: PEDRA BRITADA POSTO OBRA 9 NUMERO 1) GRANULOMETRIA 9,5-19 MM | E10: M3 | F10: =0.4*0.4*0.08 -> 0.0128 | G10: 124.6 | H10: =G10*F10 -> 1.59488
A11: SEINFRA | C11: ED-48227 | D11: ALVENARIA DE VEDAÇÃO COM TIJOLO MACIÇO REQUEIMADO ESP 10 CM, PARA REVESTIMENTO, INCLUSIVE ARGAMASSA PARA ASSENTAMENTO | E11: M2 | F11: 0.54 | G11: 85.34 | H11: =G11*F11 -> 46.0836
A12: SEINFRA | C12: ED-51093 | D12: APILOAMENTO DO FUNDO DE VALAS COM SOQUETE | E12: M2 | F12: =0.4*0.4 -> 0.16 | G12: 20.43 | H12: =G12*F12 -> 3.2688
A13: SEINFRA | C13: ED-51107 | D13: ESCAVAÇÃO MANUAL E VALA COM PROFUNDIDADE MENOR OU IGUAL A 1,5 M | E13: M2 | F13: =0.8*0.8*0.6 -> 0.384 | G13: 60.61 | H13: =G13*F13 -> 23.27424
A14: SEINFRA | C14: ED-48314 | D14: CONCRETO NÃO ESTRUTURAL, PREPARADO EM OBRA COM BETONEIRA, CONTROLE "B", COM FCK 13,5MPA, BRITA Nº (1 E 2), CONSISTÊNCIA PARA VIBRAÇÃO (FABRICAÇÃO) | E14: M3 | F14: 0.026 | G14: 519.16 | H14: =G14*F14 -> 13.49816
A15: SEINFRA | C15: ED-48298 | D15: CORTE, DOBRA E MONTAGEM DE AÇO CA -50/60 INCLUSIVE ESPAÇADOR | E15: M2 | F15: 0.76 | G15: 12.82 | H15: =G15*F15 -> 9.7432
G16: TOTAL | H16: =SUM(H10:H15) -> 97.46288
B20: VANESSA MONTES MACHADO | E20: FERNANDO GONÇALVES DOS SANTOS
B21: ENGENHEIRA CIVIL | E21: PREFEITO MUNICIPAL
B22: CREA 70595/D-MG

Sheet CPU 02
C1: PREFEITURA MUNICIPAL DE LARANJAL
C2: RUA NORBERTO BERNO, 85, CENTRO - LARANJAL - MG
C3: CNPJ n°:17.947.615/0001-22
C4: Telefones: (32) 3424-1385/1387
A5: SEINFRA REGIÃO LESTE COM DESONERAÇÃO ABRIL DE 2023
A6: COMPOSIÇÃO DE CUSTO UNITÁRIO
A7: CPU 02 | C7: REFLETOR LED DE 1000W 90.000 LUMENS FORNECIMENTO E INSTALAÇÃO | E7: UNIDADE
A8: FONTE | B8: TIPO | C8: CÓDIGO | D8: DESCRIÇÃO | E8: UNIDADE | F8: ÍNDICE | G8: PREÇO UNITÁRIO | H8: PREÇO TOTAL
A9: COTAÇÃO | C9: COT01 | D9: REFLETOR LED DE 1000W 90.000 LUMENS | E9: UNIDADE | F9: 1 | G9: =COTAÇÃO!K6 -> 2650 | H9: =G9*F9 -> 2650
A10: SEINFRA | C10: ED-50362 | D10: AJUDANTE DE ELETRICISTA COM ENCARGOS COMPEMENTARES | E10: HORA | F10: 0.3 | G10: 20.02 | H10: =G10*F10 -> 6.006
A11: SEINFRA | C11: ED-50373 | D11: ELETRICISTA COM ENCARGOS COMPEMENTARES | E11: HORA | F11: 0.3 | G11: 24.74 | H11: =G11*F11 -> 7.422
G12: TOTAL | H12: =SUM(H9:H11) -> 2663.428
B17: VANESSA MONTES MACHADO | E17: CREA 70595-MG
B18: ENGENHEIRA CIVIL
B23: FERNANDO GONÇALVES DOS SANTOS
B24: PREFEITO MUNICIPAL

Sheet CPU 03
C1: PREFEITURA MUNICIPAL DE LARANJAL
C2: RUA NORBERTO BERNO, 85, CENTRO - LARANJAL - MG
C3: CNPJ n°:17.947.615/0001-22
C4: Telefones: (32) 3424-1385/1387
A5: SEINFRA REGIÃO LESTE COM DESONERAÇÃO ABRIL DE 2023
A6: COMPOSIÇÃO DE CUSTO UNITÁRIO
A7: CPU 03 | C7: ELETRODUTO FLEXÍVEL, EM PVC PRETO (4"), INCLUSIVE CONEXÕES, SUPORTES E FIXAÇÃO | E7: UNIDADE
A8: FONTE | B8: TIPO | C8: CÓDIGO | D8: DESCRIÇÃO | E8: UNIDADE | F8: ÍNDICE | G8: PREÇO UNITÁRIO | H8: PREÇO TOTAL
A9: COTAÇÃO | C9: COT04 | D9: ELETRODUTO FLEXÍVEL, EM PVC PRETO (4") | E9: UNIDADE | F9: 1 | G9: =COTAÇÃO!K7 -> 22.666667 | H9: =G9 -> 22.666667
A10: SEINFRA | C10: ED-50362 | D10: AJUDANTE DE ELETRICISTA COM ENCARGOS COMPEMENTARES | E10: HORA | F10: 0.143 | G10: 20.02 | H10: =G10*F10 -> 2.86286
A11: SEINFRA | C11: ED-50373 | D11: ELETRICISTA COM ENCARGOS COMPEMENTARES | E11: HORA | F11: 0.143 | G11: 24.74 | H11: =G11*F11 -> 3.53782
G12: TOTAL | H12: =SUM(H9:H11) -> 29.067347
B15: VANESSA MONTES MACHADO | E15: CREA 70595-MG
B16: ENGENHEIRA CIVIL
B19: FERNANDO GONÇALVES DOS SANTOS
B20: PREFEITO MUNICIPAL

Sheet CPU 04
C1: PREFEITURA MUNICIPAL DE LARANJAL
C2: RUA NORBERTO BERNO, 85, CENTRO - LARANJAL - MG
C3: CNPJ n°:17.947.615/0001-22
C4: Telefones: (32) 3424-1385/1387
A5: SEINFRA REGIÃO LESTE COM DESONERAÇÃO ABRIL DE 2023
A6: COMPOSIÇÃO DE CUSTO UNITÁRIO
A7: CPU 04 | C7: DISJUNTOR TRIPOLAR TERMOMAGNÉTICO 5KA, DE 150A | E7: UNIDADE
A8: FONTE | B8: TIPO | C8: CÓDIGO | D8: DESCRIÇÃO | E8: UNIDADE | F8: ÍNDICE | G8: PREÇO UNITÁRIO | H8: PREÇO TOTAL
A9: COTAÇÃO | C9: COT05 | D9: DISJUNTOR TRIPOLAR TERMOMAGNÉTICO 5KA, DE 150A | E9: UNIDADE | F9: 1 | G9: 485.5 | H9: =G9 -> 485.5
A10: SEINFRA | C10: ED-50362 | D10: AJUDANTE DE ELETRICISTA COM ENCARGOS COMPEMENTARES | E10: HORA | F10: 1 | G10: 20.02 | H10: =G10*F10 -> 20.02
A11: SEINFRA | C11: ED-50373 | D11: ELETRICISTA COM ENCARGOS COMPEMENTARES | E11: HORA | F11: 1 | G11: 24.74 | H11: =G11*F11 -> 24.74
G12: TOTAL | H12: =SUM(H9:H11) -> 530.26
B15: VANESSA MONTES MACHADO | E15: CREA 70595-MG
B16: ENGENHEIRA CIVIL
B19: FERNANDO GONÇALVES DOS SANTOS
B20: PREFEITO MUNICIPAL

Sheet CPU 05
C1: PREFEITURA MUNICIPAL DE LARANJAL
C2: RUA NORBERTO BERNO, 85, CENTRO - LARANJAL - MG
C3: CNPJ n°:17.947.615/0001-22
C4: Telefones: (32) 3424-1385/1387
A5: SEINFRA REGIÃO LESTE COM DESONERAÇÃO ABRIL DE 2023
A6: COMPOSIÇÃO DE CUSTO UNITÁRIO
A7: CPU 05 | C7: POSTE 15M COM CRUZETA INCLUINDO TRANSPORTE, IÇAMENTO E INSTALAÇÃO | E7: UNIDADE
A8: FONTE | B8: TIPO | C8: CÓDIGO | D8: DESCRIÇÃO | E8: UNIDADE | F8: ÍNDICE | G8: PREÇO UNITÁRIO | H8: PREÇO TOTAL
A9: COTAÇÃO | C9: COT05 | D9: POSTE 15M COM CRUZETA INCLUINDO TRANSPORTE, IÇAMENTO E INSTALAÇÃO | E9: UNIDADE | F9: 1 | G9: 10050 | H9: =G9 -> 10050
A10: SEINFRA | C10: ED-50362 | D10: AJUDANTE DE ELETRICISTA COM ENCARGOS COMPEMENTARES | E10: HORA | F10: 10 | G10: 20.02 | H10: =G10*F10 -> 200.2
A11: SEINFRA | C11: ED-50373 | D11: ELETRICISTA COM ENCARGOS COMPEMENTARES | E11: HORA | F11: 10 | G11: 24.74 | H11: =G11*F11 -> 247.4
G12: TOTAL | H12: =SUM(H9:H11) -> 10497.6
B15: VANESSA MONTES MACHADO | E15: CREA 70595-MG
B16: ENGENHEIRA CIVIL
B19: FERNANDO GONÇALVES DOS SANTOS
B20: PREFEITO MUNICIPAL

Sheet COTAÇÃO
A1: PREFEITURA MUNICIPAL DE LARANJAL RUA NORBERTO BERNO, 85, CENTRO - LARANJAL - MG CNPJ n°:17.947.615/0001-22 Telefones: (32) 3424-1387
A2: RELAÇÃO DOS ITENS COM COTAÇÃO DE MERCADO- PREÇO MÉDIO
M3: DATA: 24/10/2023
A4: Item | B4: Código | D4: Descrição | E4: Unidade | F4: fornecedor 01 | G4: fornecedor 02 | H4: fornecedor 03 | I4: Quantidade | K4: preço Unitário médio | N4: Preço Total com bdi
N5: (R$)
A6: 1 | B6: COT02 | D6: REFLETOR LED DE 1000W 90.000 LUMENS | E6: Unidade | F6: 2550 | G6: 2500 | H6: 2900 | I6: 24 | K6: =(H6+G6+F6)/3 -> 2650 | N6: =K6*1.256 -> 3328.4
A7: 2 | B7: COT03 | D7: ELETRODUTO FLEXÍVEL, EM PVC PRETO (4") | E7: M | F7: 23 | G7: 20 | H7: 25 | I7: 450 | K7: =(H7+G7+F7)/3 -> 22.666667 | N7: 27.22
A8: 3 | B8: COT04 | D8: DISJUNTOR TRIPOLAR TERMOMAGNÉTICO 5KA, DE 150A | E8: m | F8: 431.51 | G8: 455 | H8: 570 | I8: 1 | K8: =(H8+G8+F8)/3 -> 485.50333 | N8: =K8 -> 485.50333
A9: 4 | B9: COT05 | D9: POSTE 15M COM CRUZETA INCLUINDO TRANSPORTE | E9: Unidade | F9: 9950 | G9: 9900 | H9: 10300 | I9: 2 | K9: =(H9+G9+F9)/3 -> 10050 | N9: 12706.54
D25: FERNANDO GONÇALVES DOS SANTOS | G25: VANESSA MONTES MACHADO
D26: PREFEITO MUNICIPAL | G26: CREA 705925/D-MG

Sheet Planilha Orcamentaria
A4: PLANILHA ORÇAMENTÁRIA DE CUSTOS
A6: PREFEITURA: PREFEITURA DE LARANJAL MG | F6: FOLHA Nº: 01/01
A7: OBRA: REFORMA DA ILUMINAÇÃO DO CAMPO DE FUTEBOL XV DE NOVEMBRO | F7: DATA: 23/10/2023
A8: LOCAL: Avenida Serafim Machado Naya, SNº Centro Laranjal MG | E8: FORMA DE EXECUÇÃO:
A9: REGIÃO/MÊS DE REFERÊNCIA: SETOP Região Leste/Abril 2023-Com desoneração | E9: ( ) | F9: DIRETA | G9: ( x ) | H9: INDIRETA
A10: PRAZO DE EXECUÇÃO: 02 meses | G10: LDI | H10: 0.268
A12: ITEM | B12: CÓDIGO | C12: DESCRIÇÃO | D12: UNIDADE | E12: QUANTIDADE | F12: PREÇO UNITÁRIO S/ LDI | G12: PREÇO UNITÁRIO C/ LDI | H12: PREÇO TOTAL
A13: 1 | C13: SERVIÇOS PRELIMINARES
A14: 1.1 | B14: ED-28429 | C14: FORNECIMENTO E COLOCAÇÃO DE PLACA DE OBRA EM CHAPA GALVANIZADA #26, ESP. 0,45MM, DIMENSÃO (6X3)M, PLOTADA COM ADESIVO VINÍLICO, AFIXADA COM REBITES 4,8X40MM, EM ESTRUTURA METÁLICA DE METALON 20X20MM, ESP. 1,25MM, INCLUSIVE SUPORTE EM EUCALIPTO AUTOCLAVADO PINTADO COM TINTA PVA DUAS (2) DEMÃOS | D14: Unidade | E14: 1 | F14: 5718.78 | G14: =ROUND(F14+(F14*$H$10),2) -> 7251.41 | H14: =ROUND((E14*G14),2) -> 7251.41
C15: Total item 01 | H15: =H14 -> 7251.41
A16: 2 | C16: EXECUÇÃO DA REDE ENERRADA,E CAIXAS DE PASSAGEM
A17: 2.1 | B17: ED-51110 | C17: ESCAVAÇÃO MANUAL DE TERRA (DESATERRO MANUAL), INCLUSIVE DESCARGA LATERAL, EXCLUSIVE RETIRADA E TRANSPORTE DO MATERIAL ESCAVADO | D17: M3 | E17: =225.82*0.7*0.3 -> 47.4222 | F17: 35.3 | G17: =ROUND(F17+(F17*$H$10),2) -> 44.76 | H17: 2122.52
A18: 2.2 | B18: ED-51094 | C18: APILOAMENTO MECANIZADO EM FUNDO DE VALA COM PLACA VIBRATÓRIA, EXCLUSIVE ESCAVAÇÃO | D18: M2 | E18: =0.3*225.82 -> 67.746 | F18: 11.42 | G18: =ROUND(F18+(F18*$H$10),2) -> 14.48 | H18: 981.02
A19: 2.3 | B19: ED-51121 | C19: REATERRO MANUAL DE VALA, INCLUSIVE ESPALHAMENTO E COMPACTAÇÃO MECANIZADA COM PLACA VIBRATÓRIA | D19: M3 | E19: =225.82*0.7*0.2 -> 31.6148 | F19: 37.34 | G19: =ROUND(F19+(F19*$H$10),2) -> 47.35 | H19: 1496.73
A20: 2.4 | B20: CPU 01 | C20: CAIXA DE PASSAGEM EM ALVENARIA E TAMPA DE CONCRETO, FUNDO DE BRITA, TIPO 0,50X0,4X0,4 CM, INCLUSIVE ESCAVAÇÃO, REATERRO E BOTA FORA | D20: Unidade | E20: 11 | F20: 97.46 | G20: =ROUND(F20+(F20*$H$10),2) -> 123.58 | H20: =ROUND((E20*G20),2) -> 1359.38
C21: Total item 02 | H21: =SUM(H17:H20) -> 5959.65
A22: 3 | C22: REFORMA DAS INSTALAÇÕES ELÉTRICAS | G22: =ROUND(F22+(F22*$H$10),2) -> 0 | H22: =ROUND((E22*G22),2) -> 0
A23: 3.1 | B23: ED-49228 | C23: DISJUNTOR MONOPOLAR TERMOMAGNÉTICO 5KA, DE 10A | D23: Unidade | E23: 2 | F23: 21.89 | G23: =ROUND(F23+(F23*$H$10),2) -> 27.76 | H23: =ROUND((E23*G23),2) -> 55.52 | J23: 0
A24: 3.2 | B24: ED-49229 | C24: DISJUNTOR MONOPOLAR TERMOMAGNÉTICO 5KA, DE 15A | D24: Unidade | E24: 2 | F24: 21.89 | G24: =ROUND(F24+(F24*$H$10),2) -> 27.76 | H24: =ROUND((E24*G24),2) -> 55.52
A25: 3.3 | B25: ED-49271 | C25: DISJUNTOR BIPOLAR TERMOMAGNÉTICO 5KA, DE 20A | D25: Unidade | E25: 12 | F25: 51.06 | G25: =ROUND(F25+(F25*$H$10),2) -> 64.74 | H25: =ROUND((E25*G25),2) -> 776.88
A26: 3.4 | B26: ED-49258 | C26: DISJUNTOR BIPOLAR TERMOMAGNÉTICO 10KA, DE 40A | D26: Unidade | E26: 2 | F26: 94.54 | G26: =ROUND(F26+(F26*$H$10),2) -> 119.88 | H26: =ROUND((E26*G26),2) -> 239.76
A27: 3.5 | B27: ED-49261 | C27: DISJUNTOR TRIPOLAR TERMOMAGNÉTICO 10KA, DE 70A | D27: Unidade | E27: 1 | F27: 119.54 | G27: =ROUND(F27+(F27*$H$10),2) -> 151.58 | H27: =ROUND((E27*G27),2) -> 151.58
A28: 3.6 | B28: CPU 04 | C28: DISJUNTOR TRIPOLAR TERMOMAGNÉTICO 5KA, DE 150A | D28: Unidade | E28: 1 | F28: ='CPU 04'!H12 -> 530.26 | G28: =ROUND(F28+(F28*$H$10),2) -> 672.37 | H28: =ROUND((E28*G28),2) -> 672.37
A29: 3.7 | B29: ED-49262 | C29: DISJUNTOR TRIPOLAR TERMOMAGNÉTICO 10KA, DE 90A | E29: 1 | F29: 119.54 | G29: =ROUND(F29+(F29*$H$10),2) -> 151.58 | H29: =ROUND((E29*G29),2) -> 151.58
A30: 3.8 | B30: ED-15748 | C30: CONJUNTO DE UMA (1) TOMADA PADRÃO, TRÊS (3) POLOS, CORRENTE 10A, TENSÃO 250V, (2P+T/10A-250V), COM PLACA 4"X2" DE UM (1) POSTO, INCLUSIVE FORNECIMENTO, INSTALAÇÃO, SUPORTE, MÓDULO E PLACA | D30: Unidade | E30: 12 | F30: 24.21 | G30: =ROUND(F30+(F30*$H$10),2) -> 30.7 | H30: =ROUND((E30*G30),2) -> 368.4
A31: 3.9 | B31: ED-13337 | C31: LUMINÁRIA COMERCIAL CHANFRADA DE SOBREPOR COMPLETA, PARA DUAS (2) LÂMPADAS TUBULARES LED 2X9W-ØT8, TEMPERATURA DA COR 6500K, FORNECIMENTO E INSTALAÇÃO, INCLUSIVE BASE E LÂMPADAS | D31: Unidade | E31: 11 | F31: 149.18 | G31: =ROUND(F31+(F31*$H$10),2) -> 189.16 | H31: =ROUND((E31*G31),2) -> 2080.76
A32: 3.10 | B32: CPU 02 | C32: ='CPU 02'!C7:D7 -> REFLETOR LED DE 1000W 90.000 LUMENS FORNECIMENTO E INSTALAÇÃO | D32: Unidade | E32: 24 | F32: ='CPU 02'!H12 -> 2663.428 | G32: =ROUND(F32+(F32*$H$10),2) -> 3377.23 | H32: =ROUND((E32*G32),2) -> 81053.52
A33: 3.11 | B33: CPU 05 | C33: POSTE 15M COM CRUZETA INCLUINDO TRANSPORTE, IÇAMENTO E INSTALAÇÃO | D33: Unidade | E33: 2 | F33: ='CPU 05'!H12 -> 10497.6 | G33: =ROUND(F33+(F33*$H$10),2) -> 13310.96 | H33: =ROUND((E33*G33),2) -> 26621.92
A34: 3.12 | B34: ED-48971 | C34: CABO DE COBRE FLEXÍVEL, CLASSE 5, ISOLAMENTO TIPO LSHF/ATOX, NÃO HALOGENADO, ANTICHAMA, TERMOPLÁSTICO, UNIPOLAR, SEÇÃO 16 MM2, 70°C, 450/750V | D34: M | E34: 2000 | F34: 19.99 | G34: =ROUND(F34+(F34*$H$10),2) -> 25.35 | H34: =ROUND((E34*G34),2) -> 50700
A35: 3.13 | B35: ED-48976 | C35: CABO DE COBRE FLEXÍVEL, CLASSE 5, ISOLAMENTO TIPO LSHF/ATOX, NÃO HALOGENADO, ANTICHAMA, TERMOPLÁSTICO, UNIPOLAR, SEÇÃO 25 MM2, 70°C, 450/750V | D35: M | E35: 1400 | F35: 28.91 | G35: =ROUND(F35+(F35*$H$10),2) -> 36.66 | H35: =ROUND((E35*G35),2) -> 51324
A36: 3.14 | B36: ED-49013 | C36: CABO DE COBRE FLEXÍVEL, CLASSE 5, ISOLAMENTO TIPO EPR/HEPR, NÃO HALOGENADO, ANTICHAMA, TERMOFIXO, UNIPOLAR, SEÇÃO 70 MM2, 90°C, 0,6/1KV | D36: M | E36: 280 | F36: 82.64 | G36: =ROUND(F36+(F36*$H$10),2) -> 104.79 | H36: =ROUND((E36*G36),2) -> 29341.2
A37: 3.15 | B37: ED-48951 | C37: CABO DE COBRE FLEXÍVEL, CLASSE 5, ISOLAMENTO TIPO LSHF/ATOX, NÃO HALOGENADO, ANTICHAMA, TERMOPLÁSTICO, UNIPOLAR, SEÇÃO 2,5 MM2, 70°C, 450/750V | D37: M | E37: 200 | F37: 4.6 | G37: =ROUND(F37+(F37*$H$10),2) -> 5.83 | H37: =ROUND((E37*G37),2) -> 1166
A38: 3.16 | B38: ED-48956 | C38: CABO DE COBRE FLEXÍVEL, CLASSE 5, ISOLAMENTO TIPO LSHF/ATOX, NÃO HALOGENADO, ANTICHAMA, TERMOPLÁSTICO, UNIPOLAR, SEÇÃO 4 MM2, 70°C, 450/750V | D38: M | E38: 200 | F38: 6.44 | G38: =ROUND(F38+(F38*$H$10),2) -> 8.17 | H38: =ROUND((E38*G38),2) -> 1634
A39: 3.17 | B39: ED-48961 | C39: CABO DE COBRE FLEXÍVEL, CLASSE 5, ISOLAMENTO TIPO LSHF/ATOX, NÃO HALOGENADO, ANTICHAMA, TERMOPLÁSTICO, UNIPOLAR, SEÇÃO 6 MM2, 70°C, 450/750V | D39: M | E39: 100 | F39: 9.11 | G39: =ROUND(F39+(F39*$H$10),2) -> 11.55 | H39: =ROUND((E39*G39),2) -> 1155
A40: 3.18 | B40: ED-7252 | C40: ELETRODUTO FLEXÍVEL, EM AÇO GALVANIZADO, REVESTIDO EXTERNAMENTE COM PVC PRETO (2"), INCLUSIVE CONEXÕES, SUPORTES E FIXAÇÃO | D40: M | E40: 350 | F40: 40.24 | G40: =ROUND(F40+(F40*$H$10),2) -> 51.02 | H40: =ROUND((E40*G40),2) -> 17857
A41: 3.19 | B41: CPU 03 | C41: ELETRODUTO FLEXÍVEL, EM PVC PRETO (4"), INCLUSIVE CONEXÕES, SUPORTES E FIXAÇÃO | D41: m | E41: 500 | F41: ='CPU 03'!H12 -> 29.067347 | G41: =ROUND(F41+(F41*$H$10),2) -> 36.86 | H41: =ROUND((E41*G41),2) -> 18430
A42: 3.20 | B42: ED-20585 | C42: ENTRADA DE ENERGIA AÉREA, TIPO C5, PADRÃO CEMIG, CARGA INSTALADA DE 38,1KVA ATÉ 47KVA, TRIFÁSICO, COM SAÍDA SUBTERRÂNEA, INCLUSIVE POSTE, CAIXA PARA MEDIDOR, DISJUNTOR, BARRAMENTO, ATERRAMENTO E ACESSÓRIOS | D42: Unidade | E42: 1 | F42: 4873.51 | G42: =ROUND(F42+(F42*$H$10),2) -> 6179.61 | H42: =ROUND((E42*G42),2) -> 6179.61
A43: 3.21 | B43: ED-49505 | C43: QUADRO DE DISTRIBUIÇÃO DE LUZ EM PVC DE EMBUTIR, ATÉ 8 DIVISÕES MODULARES, DIMENSÕES EXTERNAS 160 X 240 X 89 MM | D43: Unidade | E43: 1 | F43: 113.93 | G43: =ROUND(F43+(F43*$H$10),2) -> 144.46 | H43: =ROUND((E43*G43),2) -> 144.46
A44: 3.22 | B44: ED-49502 | C44: QUADRO DE DISTRIBUIÇÃO PARA 36 MÓDULOS COM BARRAMENTO 100 A | D44: Unidade | E44: 1 | F44: 478.07 | G44: =ROUND(F44+(F44*$H$10),2) -> 606.19 | H44: =ROUND((E44*G44),2) -> 606.19
C45: Total item 02 | H45: =SUM(H23:H44) -> 290765.27
A46: TOTAL GERAL DA OBRA | H46: =H45+H21+H15 -> 303976.33
B50: VANESSA MONTES MACHADO | E50: CREA 70595-MG
B52: ENGENHEIRA CIVIL
B55: FERNANDO GONÇALVES DOS SANTOS
B56: PREFEITO MUNICIPAL

Sheet MEMÓRIA DE CÁLCULO
A4: MEMÓRIA DE CÁLCULO
A6: PREFEITURA: PREFEITURA DE LARANJAL MG | F6: FOLHA Nº: 01/01
A7: OBRA: REFORMA DA ILUMINAÇÃO DO CAMPO DE FUTEBOL XV DE NOVEMBRO | F7: DATA: 23/102023
A8: LOCAL: Avenida Serafim Machado Naya, SNº Centro Laranjal MG | E8: FORMA DE EXECUÇÃO:
A9: REGIÃO/MÊS DE REFERÊNCIA: SETOP Região Leste/Abril 2023 | E9: ( ) | F9: DIRETA | G9: ( x ) | H9: INDIRETA
A10: PRAZO DE EXECUÇÃO: 02 meses | G10: LDI | H10: 0.268
A12: ITEM | B12: CÓDIGO | C12: DESCRIÇÃO | D12: UNIDADE | E12: QUANTIDADE | F12: CAÁLCULO QUANTITATIVOS
A13: 1 | C13: SERVIÇOS PRELIMINARES
A14: 1.1 | B14: ED-28429 | C14: FORNECIMENTO E COLOCAÇÃO DE PLACA DE OBRA EM CHAPA GALVANIZADA #26, ESP. 0,45MM, DIMENSÃO (6X3)M, PLOTADA COM ADESIVO VINÍLICO, AFIXADA COM REBITES 4,8X40MM, EM ESTRUTURA METÁLICA DE METALON 20X20MM, ESP. 1,25MM, INCLUSIVE SUPORTE EM EUCALIPTO AUTOCLAVADO PINTADO COM TINTA PVA DUAS (2) DEMÃOS | D14: Unidade | E14: 1 | F14: 1 UNIDADE CONFORME PLANILHA
A15: 2 | C15: EXECUÇÃO DA REDE ENERRADA,E CAIXAS DE PASSAGEM
A16: 2.1 | B16: ED-51109 | C16: ESCAVAÇÃO MANUAL DE TERRA (DESATERRO MANUAL), INCLUSIVE DESCARGA LATERAL, EXCLUSIVE RETIRADA E TRANSPORTE DO MATERIAL ESCAVADO | D16: M3 | E16: =225.82*0.7*0.3 -> 47.4222 | F16: COMPRIMENTO DAS VALAS: 225,82MX 0,70M ( PROFUNDIDADE MÉDIA)X0,30 LARGURA= 47,42 M2
A17: 2.2 | B17: ED-51094 | C17: APILOAMENTO MECANIZADO EM FUNDO DE VALA COM PLACA VIBRATÓRIA, EXCLUSIVE ESCAVAÇÃO | D17: M2 | E17: =0.3*225.82 -> 67.746 | F17: COMPRIMENTO DAS VALAS: 225,82MX0,30 LARGURA= 67,75 M2
A18: 2.3 | B18: ED-51121 | C18: REATERRO MANUAL DE VALA, INCLUSIVE ESPALHAMENTO E COMPACTAÇÃO MECANIZADA COM PLACA VIBRATÓRIA | D18: M3 | E18: =225.82*0.7*0.2 -> 31.6148 | F18: COMPRIMENTO DAS VALAS: 225,82MX 0,70M ( PROFUNDIDADE MÉDIA)X0,20 LARGURA= 31,81M2
A19: 2.4 | B19: CPU 01 | C19: CAIXA DE PASSAGEM EM ALVENARIA E TAMPA DE CONCRETO, FUNDO DE BRITA, TIPO 0,50X0,4X0,4 CM, INCLUSIVE ESCAVAÇÃO, REATERRO E BOTA FORA | D19: Unidade | E19: 11 | F19: CONFORME PROJETO
A20: 3 | C20: REFORMA DAS INSTALAÇÕES ELÉTRICAS | G20: =ROUND(F20+(F20*$H$10),2) -> 0 | H20: =ROUND((E20*G20),2) -> 0
A21: 3.1 | B21: ED-49228 | C21: DISJUNTOR MONOPOLAR TERMOMAGNÉTICO 5KA, DE 10A | D21: Unidade | E21: 2 | F21: CONFORME PROJETO ELÉTRICO | J21: 0
A22: 3.2 | B22: ED-49229 | C22: DISJUNTOR MONOPOLAR TERMOMAGNÉTICO 5KA, DE 15A | D22: Unidade | E22: 2 | F22: CONFORME PROJETO ELÉTRICO
A23: 3.3 | B23: ED-49271 | C23: DISJUNTOR BIPOLAR TERMOMAGNÉTICO 5KA, DE 20A | D23: Unidade | E23: 12 | F23: CONFORME PROJETO ELÉTRICO
A24: 3.4 | B24: ED-49258 | C24: DISJUNTOR BIPOLAR TERMOMAGNÉTICO 10KA, DE 40A | D24: Unidade | E24: 2 | F24: CONFORME PROJETO ELÉTRICO
A25: 3.5 | B25: ED-49261 | C25: DISJUNTOR TRIPOLAR TERMOMAGNÉTICO 10KA, DE 70A | D25: Unidade | E25: 1 | F25: CONFORME PROJETO ELÉTRICO
A26: 3.6 | B26: CPU 04 | C26: DISJUNTOR TRIPOLAR TERMOMAGNÉTICO 5KA, DE 150A | D26: Unidade | E26: 1 | F26: CONFORME PROJETO ELÉTRICO
A27: 3.7 | B27: ED-49262 | C27: DISJUNTOR TRIPOLAR TERMOMAGNÉTICO 10KA, DE 90A | E27: 1 | F27: CONFORME PROJETO ELÉTRICO
A28: 3.8 | B28: ED-15748 | C28: CONJUNTO DE UMA (1) TOMADA PADRÃO, TRÊS (3) POLOS, CORRENTE 10A, TENSÃO 250V, (2P+T/10A-250V), COM PLACA 4"X2" DE UM (1) POSTO, INCLUSIVE FORNECIMENTO, INSTALAÇÃO, SUPORTE, MÓDULO E PLACA | D28: Unidade | E28: 12 | F28: CONFORME PROJETO ELÉTRICO
A29: 3.9 | B29: ED-13337 | C29: LUMINÁRIA COMERCIAL CHANFRADA DE SOBREPOR COMPLETA, PARA DUAS (2) LÂMPADAS TUBULARES LED 2X9W-ØT8, TEMPERATURA DA COR 6500K, FORNECIMENTO E INSTALAÇÃO, INCLUSIVE BASE E LÂMPADAS | D29: Unidade | E29: 11 | F29: CONFORME PROJETO ELÉTRICO
A30: 3.10 | B30: CPU 02 | C30: ='CPU 02'!C7:D7 -> REFLETOR LED DE 1000W 90.000 LUMENS FORNECIMENTO E INSTALAÇÃO | D30: Unidade | E30: 24 | F30: CONFORME PROJETO ELÉTRICO
A31: 3.11 | B31: CPU 05 | C31: POSTE 15M COM CRUZETA INCLUINDO TRANSPORTE, IÇAMENTO E INSTALAÇÃO | D31: Unidade | E31: 2 | F31: CONFORME PROJETO ELÉTRICO
A32: 3.12 | B32: ED-48971 | C32: CABO DE COBRE FLEXÍVEL, CLASSE 5, ISOLAMENTO TIPO LSHF/ATOX, NÃO HALOGENADO, ANTICHAMA, TERMOPLÁSTICO, UNIPOLAR, SEÇÃO 16 MM2, 70°C, 450/750V | D32: M | E32: 2000 | F32: CONFORME PROJETO ELÉTRICO
A33: 3.13 | B33: ED-48976 | C33: CABO DE COBRE FLEXÍVEL, CLASSE 5, ISOLAMENTO TIPO LSHF/ATOX, NÃO HALOGENADO, ANTICHAMA, TERMOPLÁSTICO, UNIPOLAR, SEÇÃO 25 MM2, 70°C, 450/750V | D33: M | E33: 1400 | F33: CONFORME PROJETO ELÉTRICO
A34: 3.14 | B34: ED-49013 | C34: CABO DE COBRE FLEXÍVEL, CLASSE 5, ISOLAMENTO TIPO EPR/HEPR, NÃO HALOGENADO, ANTICHAMA, TERMOFIXO, UNIPOLAR, SEÇÃO 70 MM2, 90°C, 0,6/1KV | D34: M | E34: 280 | F34: CONFORME PROJETO ELÉTRICO
A35: 3.15 | B35: ED-48951 | C35: CABO DE COBRE FLEXÍVEL, CLASSE 5, ISOLAMENTO TIPO LSHF/ATOX, NÃO HALOGENADO, ANTICHAMA, TERMOPLÁSTICO, UNIPOLAR, SEÇÃO 2,5 MM2, 70°C, 450/750V | D35: M | E35: 200 | F35: CONFORME PROJETO ELÉTRICO
A36: 3.16 | B36: ED-48956 | C36: CABO DE COBRE FLEXÍVEL, CLASSE 5, ISOLAMENTO TIPO LSHF/ATOX, NÃO HALOGENADO, ANTICHAMA, TERMOPLÁSTICO, UNIPOLAR, SEÇÃO 4 MM2, 70°C, 450/750V | D36: M | E36: 200 | F36: CONFORME PROJETO ELÉTRICO
A37: 3.17 | B37: ED-48961 | C37: CABO DE COBRE FLEXÍVEL, CLASSE 5, ISOLAMENTO TIPO LSHF/ATOX, NÃO HALOGENADO, ANTICHAMA, TERMOPLÁSTICO, UNIPOLAR, SEÇÃO 6 MM2, 70°C, 450/750V | D37: M | E37: 100 | F37: CONFORME PROJETO ELÉTRICO
A38: 3.18 | B38: ED-7252 | C38: ELETRODUTO FLEXÍVEL, EM AÇO GALVANIZADO, REVESTIDO EXTERNAMENTE COM PVC PRETO (2"), INCLUSIVE CONEXÕES, SUPORTES E FIXAÇÃO | D38: M | E38: 350 | F38: CONFORME PROJETO ELÉTRICO
A39: 3.19 | B39: CPU 03 | C39: ELETRODUTO FLEXÍVEL, EM PVC PRETO (4"), INCLUSIVE CONEXÕES, SUPORTES E FIXAÇÃO | D39: m | E39: 500 | F39: CONFORME PROJETO ELÉTRICO
A40: 3.20 | B40: ED-20585 | C40: ENTRADA DE ENERGIA AÉREA, TIPO C5, PADRÃO CEMIG, CARGA INSTALADA DE 38,1KVA ATÉ 47KVA, TRIFÁSICO, COM SAÍDA SUBTERRÂNEA, INCLUSIVE POSTE, CAIXA PARA MEDIDOR, DISJUNTOR, BARRAMENTO, ATERRAMENTO E ACESSÓRIOS | D40: Unidade | E40: 1 | F40: CONFORME PROJETO ELÉTRICO
A41: 3.21 | B41: ED-49505 | C41: QUADRO DE DISTRIBUIÇÃO DE LUZ EM PVC DE EMBUTIR, ATÉ 8 DIVISÕES MODULARES, DIMENSÕES EXTERNAS 160 X 240 X 89 MM | D41: Unidade | E41: 1 | F41: CONFORME PROJETO ELÉTRICO
A42: 3.22 | B42: ED-49502 | C42: QUADRO DE DISTRIBUIÇÃO PARA 36 MÓDULOS COM BARRAMENTO 100 A | D42: Unidade | E42: 1 | F42: CONFORME PROJETO ELÉTRICO
B47: VANESSA MONTES MACHADO | E47: CREA 70595-MG
B49: ENGENHEIRA CIVIL
B52: FERNANDO GONÇALVES DOS SANTOS
B53: PREFEITO MUNICIPAL

Sheet CRONOGRAMA PADRÃO
A2: CRONOGRAMA FÍSICO-FINANCEIRO
A3: ='[1]PLANILHA COMPLETA (2)'!A3:F3 -> PREFEITURA: PREFEITURA MUNICIPAL DE LARANJAL | D3: VALOR DO CONVÊNIO: | E3: =D16 -> 303976.33 | F3: DATA: | G3: =TODAY() -> 45230 | H3: FOLHA Nº: 01/01
A4: OBRA: REFORMA DA ILUMINAÇÃO DO CAMPO DE FUTEBOL XV DE NOVEMBRO | F4: PREVISÃO DE EXECUÇÃO DAS OBRAS: 2 MESES
A5: ENDEREÇO: AVENIDA SERAFIM MACHADO NAYA , S/Nº - CENTRO - LARANJAL- MG
A6: ITENS | B6: ETAPAS/DESCRIÇÃO | C6: FÍSICO/ FINANCEIRO | D6: TOTAL ETAPAS | E6: MÊS 1 | F6: MÊS 2 | G6: MÊS 3 | H6: MÊS 4
A7: ='[2]Planilha Orcamentária'!A10 -> 1 | B7: ='Planilha Orcamentaria'!C13 -> SERVIÇOS PRELIMINARES | C7: Físico % | D7: =D8/$D$16 -> 0.02385518 | E7: 1 | F7: 0 | G7: 0 | H7: 0
C8: Financeiro | D8: ='Planilha Orcamentaria'!H15 -> 7251.41 | E8: =E7*$D$8 -> 7251.41 | F8: =F7*$D$8 -> 0 | G8: =G7*$D$8 -> 0 | H8: =H7*$D$8 -> 0
A9: ='[2]Planilha Orcamentária'!A13 -> 2 | B9: ='Planilha Orcamentaria'!C16 -> EXECUÇÃO DA REDE ENERRADA,E CAIXAS DE PASSAGEM | C9: Físico % | D9: =D10/$D$16 -> 0.019605638 | E9: 1 | F9: 0 | G9: 0 | H9: 0
C10: Financeiro | D10: ='Planilha Orcamentaria'!H21 -> 5959.65 | E10: =E9*$D$10 -> 5959.65 | F10: =F9*$D$10 -> 0 | G10: =G9*$D$10 -> 0 | H10: =H9*$D$10 -> 0
A11: ='[2]Planilha Orcamentária'!A18 -> 3 | B11: ='Planilha Orcamentaria'!C22 -> REFORMA DAS INSTALAÇÕES ELÉTRICAS | C11: Físico % | D11: =D12/$D$16 -> 0.95653918 | E11: 0.5 | F11: 0.5 | G11: 0 | H11: 0
C12: Financeiro | D12: ='Planilha Orcamentaria'!H45 -> 290765.27 | E12: =E11*$D$12 -> 145382.64 | F12: =F11*$D$12 -> 145382.64 | G12: =G11*$D$12 -> 0 | H12: =H11*$D$12 -> 0
A13: ='[2]Planilha Orcamentária'!A26 -> 5 | B13: ='[2]Planilha Orcamentária'!C26 -> 0 | C13: Físico % | D13: =D14/$D$16 -> 0 | E13: 0 | F13: 0 | G13: 0 | H13: 0
C14: Financeiro | D14: ='[2]Planilha Orcamentária'!H26 -> 0 | E14: =E13*$D$14 -> 0 | F14: =F13*$D$14 -> 0 | G14: =G13*$D$14 -> 0 | H14: =H13*$D$14 -> 0
A15: TOTAL | C15: Físico % | D15: =D7+D9+D11+D13 -> 1 | E15: =E16/$D$16 -> 0.52173041 | F15: =F16/$D$16 -> 0.47826959 | G15: =G16/$D$16 -> 0 | H15: =H16/$D$16 -> 0
C16: Financeiro | D16: ='Planilha Orcamentaria'!H46 -> 303976.33 | E16: =E12+E10+E8 -> 158593.7 | F16: =F12+F10+F8 -> 145382.64 | G16: =G12+G10+G8 -> 0 | H16: =H12+H10+H8 -> 0
G17: Observações:
B19: VANESSA MONTES MACHADO
B20: Engenheira Civil
B21: CREA 70595/D
B24: FERNANDO GONÇALVES DOS SANTOS
B25: PREFEITO MUNICIPAL
