Workbook

Sheet ORÇAMENTO
A1: PREFEITURA MUNICIPAL DE LARANJAL
A2: CNPJ: 17.947.615/0001-22
A3: Rua: Norberto Berno, 85 – Centro – CEP 36.760-000 – Laranjal – MG
C4: Telefax: (32) 3424-1387 / 3424-1919
B5: PLANILHA ORÇAMENTÁRIA DE CUSTOS
A6: OBRA: | B6: MURO DE CONTENÇÃO DE CONCRETO ARMADO -20 M DE EXTENSÃOX3,5 M DE ALTURA | F6: DATA: | G6: 45357
A7: ENDEREÇO: | B7: RUA PROFESSOR CLÓVIS SALGADO- CENTRO- LARANJAL- MG
A8: REFERÊNCIA: | C8: SINAP 10/2023- desonerada | F8: BDI:25,21%
H9: BDI 25%
A12: ITEM | B12: CÓDIGO | C12: DESCRIÇÃO | D12: UNID | E12: QUANT. | F12: PREÇO UNIT. R$ | G12: PREÇO UNIT. R$ | H12: VALOR
E13: (A) | F13: (B) | G13: COM BDI | H13: (C) = (A ) x (B)
C14: MURO DE CONCRETO ARMADO 20X3,5 M
A15: 1 | C15: SERVIÇOS PRELIMINARES
A16: 1.1 | B16: 4813 | C16: PLACA DE OBRA EM CHAPA GALVANIZADA N22 DE 2,00X 1,125 M ADESIVADA | D16: M2 | E16: 2.88 | F16: 250 | G16: =F16*1.2521 -> 313.025 | H16: =G16*E16 -> 901.512
A17: 1.2 | B17: 93584 | C17: EXECUÇÃO DE DEPÓSITO EM CANTEIRO DE OBRA EM CHAPA DE MADEIRA COMPENSADA, NÃO INCLUSO MOBILIÁRIO | D17: UM | E17: 6 | F17: 981.3 | G17: =F17*1.2521 -> 1228.6857 | H17: =G17*E17 -> 7372.1144
A18: 2.1.1 | B18: 99059 | C18: LOCAÇÃO CONVENCIONAL DE OBRAS | D18: M | E18: 20 | F18: 61.62 | G18: =F18*1.2521 -> 77.154402 | H18: =G18*E18 -> 1543.088
A19: 2.1.2 | B19: 102279 | C19: ESCAVAÇÃO MECANIZADA DE VALA COM PROF. ATÉ 1,5 M (MÉDIA ENTRE MONTANTE | D19: M3 | E19: =20*2.5*0.5 -> 25 | F19: 7.31 | G19: =F19*1.2521 -> 9.152851 | H19: =G19*E19 -> 228.82128
C20: TOTAL DO ITEM | H20: =SUM(H16:H19) -> 10045.536
A21: 2.0 | C21: INFRAESTRUTURA
A22: 2.1 | B22: 100896 | C22: ESTACA ESCAVADA MECANICAMENTE SEM FLUIDO ESTABILIZANTE DIAM 25 CM CONCRETO LANÇADO POR CAMINHÃO BETONEIRA | D22: M | E22: =42*3+7*2.5 -> 143.5 | F22: 64.61 | G22: =F22*1.2521 -> 80.898181 | H22: =G22*E22 -> 11608.889
A23: 2.2 | B23: 94968 | C23: CONCRETO MAGRO PARA LASTRO 1:4,5:4,5 | D23: M3 | E23: =2.5*20*0.05 -> 2.5 | F23: 381.32 | G23: =F23*1.2521 -> 477.45077 | H23: =G23*E23 -> 1193.6269
A24: 2.3 | B24: 96558 | C24: CONCRETAGEM DE SAPATAS E VIGAS COM CONCRETO FCK 30 MPA USINADO AUTO ADENSÁVEL- LANÇAMENTO E ACABAMENTO | D24: M3 | E24: =20*2.5*0.5+4.06 -> 29.06 | F24: 751.58 | G24: =F24*1.2521 -> 941.05332 | H24: =G24*E24 -> 27347.009
A25: 2.4 | B25: 92762 | C25: ARMAÇÃO DE PILAR OU VIGA DE ESTRUTURA CONVENCIONAL DE CONCRETO ARMADO UTILIZANDO AÇO CA-50 DE 10,0 MM - MONTAGEM. AF_06/2022 | D25: KG | E25: 240 | F25: 10.08 | G25: =F25*1.2521 -> 12.621168 | H25: =G25*E25 -> 3029.0803
A26: 2.5 | B26: 92763 | C26: ARMAÇÃO DE PILAR OU VIGA UTILIZANDO DE AÇO CA50 DE 12,50MM | D26: KG | E26: =3281-E33 -> 1008 | F26: 8.42 | G26: =F26*1.2521 -> 10.542682 | H26: =G26*E26 -> 10627.023
A27: 2.6 | B27: 92759 | C27: ARMAÇÃO DE PILAR OU VIGA UTILIZANDO DE AÇO CA50 DE 5,0MM | D27: KG | E27: =71.5+55 -> 126.5 | F27: 12.63 | G27: =F27*1.2521 -> 15.814023 | H27: =G27*E27 -> 2000.4739
A28: 2.7 | B28: 92427 | C28: MONTAGEM E DESMONTAGEM DE FORMAS DE PILARES E ESTRUTURAS SIMILARES, EM CHAPA DE MADEIRA COMPENSADA, 8 UTILIZAÇÕES | D28: M2 | E28: =0.5*20*2 -> 20 | F28: 57.31 | G28: =F28*1.2521 -> 71.757851 | H28: =G28*E28 -> 1435.157
C29: TOTAL DO ITEM | H29: =SUM(H22:H28) -> 57241.26
A30: 3.0 | C30: SUPERESTRURURA
A31: 3.1 | B31: 92427 | C31: MONTAGEM E DESMONTAGEM DE FORMAS DE PILARES E ESTRUTURAS SIMILARES, EM CHAPA DE MADEIRA COMPENSADA, 8 UTILIZAÇÕES | D31: M2 | E31: =3.5*20*2 -> 140 | F31: 57.31 | G31: =F31*1.2521 -> 71.757851 | H31: =G31*E31 -> 10046.099
A32: 3.2 | B32: 96558 | C32: CONCRETAGEM DE SAPATAS E VIGAS COM CONCRETO FCK 30 MPA USINADO AUTO ADENSÁVEL- LANÇAMENTO E ACABAMENTO | D32: M3 | E32: =1.14*20 -> 22.8 | F32: 416.5 | G32: =F32*1.2521 -> 521.49965 | H32: =G32*E32 -> 11890.192
A33: 3.3 | B33: 92763 | C33: ARMAÇÃO DE PILAR OU VIGA UTILIZANDO DE AÇO CA50 DE 12,50MM | D33: KG | E33: 2273 | F33: 8.42 | G33: =F33*1.2521 -> 10.542682 | H33: =G33*E33 -> 23963.516
A34: 3.4 | B34: 92764 | C34: ARMAÇÃO DE PILAR OU VIGA UTILIZANDO DE AÇO CA50 DE 16MM | D34: KG | E34: 905 | F34: 8.24 | G34: =F34*1.2521 -> 10.317304 | H34: =G34*E34 -> 9337.1601
A35: 3.5 | B35: 98575 | C35: TRATAMENTO DE JUNTA DE DILATAÇÃO, COM TARUGO DE POLIETILENO E SELANTE PU, INCLUSO PREENCHIMENTO COM ESPUMA EXPANSIVA PU. AF_09/2023 | D35: M | E35: =3.5 -> 3.5 | F35: 60.07 | G35: =F35*1.2521 -> 75.213647 | H35: =G35*E35 -> 263.24776
A36: 3.6 | B36: 102713 | C36: GEOTÊXTIL NÃO TECIDO 100% POLIÉSTER, RESISTÊNCIA A TRAÇÃO DE 14 KN/M (RT - 14), INSTALADO EM DRENO - FORNECIMENTO E INSTALAÇÃO. AF_07/2021 | D36: M2 | E36: =3.5*20 -> 70 | F36: 10.76 | G36: =F36*1.2521 -> 13.472596 | H36: =G36*E36 -> 943.08172
A37: 3.7 | B37: 96624 | C37: LASTRO COM MATERIAL GRANULAR PEDRA BRUTADA N02 ESP 10 CM | D37: M3 | E37: =20*3.5*0.3 -> 21 | F37: 165.18 | G37: =F37*1.2521 -> 206.82188 | H37: =G37*E37 -> 4343.2594
A38: 3.8 | B38: 89449 | C38: TUBO PVC 50 MM PARA DRENAGEM | D38: M | E38: 18 | F38: 18.26 | G38: =F38*1.2521 -> 22.863346 | H38: =E38*G38 -> 411.54023
A39: 3.9 | B39: 96385 | C39: EXECUÇÃO E COMPACTAÇÃO DE ATERRO COM SOLO PREDOMINANTEMENTE ARGILOSO - EXCLUSIVE SOLO, ESCAVAÇÃO, CARGA E TRANSPORTE. AF_11/2019 | D39: M3 | E39: =1.2*3.5*20 -> 84 | F39: 11.27 | G39: =F39*1.2521 -> 14.111167 | H39: =E39*G39 -> 1185.338
A40: 3.10 | B40: 101266 | C40: ESCAVAÇÃO VERTICAL PARA INFRAESTRUTURA, COM CARGA, DESCARGA E TRANSPORTE DE SOLO DE 1ª CATEGORIA, COM ESCAVADEIRA HIDRÁULICA (CAÇAMBA: 0,8 M³ / 111HP), FROTA DE 3 CAMINHÕES BASCULANTES DE 10 M³, DMT ATÉ 1 KM E VELOCIDADE MÉDIA14 KM/H. AF_05/2020 | D40: M3 | E40: =E39 -> 84 | F40: 11.29 | G40: =F40*1.2521 -> 14.136209 | H40: =E40*G40 -> 1187.4416
C41: TOTAL DO ITEM | H41: =SUM(H31:H40) -> 63570.876
A42: 4.0 | C42: EXECUÇÃO DE MURETA - GUARDA CORPO h =1,10m
A43: 4.1 | B43: 94971 | C43: CONCRETO ESTRUTURAL VIRADO EM OBRA - FCK 25MPA, TRAÇO 1:2,1:2,5 (CIMENTO, AREIA MÉDIA , BRITA 01) | D43: M3 | E43: ='MEMORIA DE CALCULO'!E4 -> 0.99 | F43: 480.49 | G43: =F43*1.2521 -> 601.62153 | H43: =G43*E43 -> 595.60531
A44: 4.2 | B44: 92761 | C44: ARMAÇÃO DE PILAR OU VIGA UTILIZANDO DE AÇO CA50 DE 8,000MM | D44: KG | E44: ='MEMORIA DE CALCULO'!D13 -> 34.76 | F44: 11.2 | G44: =F44*1.2521 -> 14.02352 | H44: =G44*E44 -> 487.45756
A45: 4.3 | B45: 92762 | C45: ARMAÇÃO DE PILAR OU VIGA UTILIZANDO DE AÇO CA50 DE 10,000MM | D45: KG | E45: ='MEMORIA DE CALCULO'!C13 -> 23.89024 | F45: 9.99 | G45: =F45*1.2521 -> 12.508479 | H45: =G45*E45 -> 298.83057
A46: 4.4 | B46: 92759 | C46: ARMAÇÃO DE PILAR OU VIGA UTILIZANDO DE AÇO CA50 DE5,0MM | D46: KG | E46: ='MEMORIA DE CALCULO'!E13 -> 11.464992 | F46: 12.63 | G46: =F46*1.2521 -> 15.814023 | H46: =G46*E46 -> 181.30765
A47: 4.5 | B47: 87472 | C47: ALVENARIA DE VEDAÇÃO DE BLOCO DE CONCRETO 15X19X39, A REVESTIR, PORTANTE BLOCO FCK=4,5MPA | D47: M2 | E47: 20.5 | F47: 76.32 | G47: =F47*1.2521 -> 95.560272 | H47: =E47*F47 -> 1564.56
A48: 4.6 | B48: 87893 | C48: CHAPISCO COM BRITA FINA 1:2:3 CIMENTO, AREIA E BRITA | D48: M2 | E48: =20*1.1*2 -> 44 | F48: 5.47 | G48: =F48*1.2521 -> 6.848987 | H48: =G48*E48 -> 301.35543
A49: 4.7 | B49: 87547 | C49: EMBOÇO PARA RECEBIMENTO DE PINTURACOM ARGAMASSA 1:2:8 APLICADO MANUALMENTE ESP 10 MM COM EXECUÇÃO DE TALISCAS | D49: M2 | E49: =20*1.1*2 -> 44 | F49: 17.04 | G49: =F49*1.2521 -> 21.335784 | H49: =G49*E49 -> 938.7745
A50: 4.8 | B50: 102498 | C50: PINTURA DE MEIO FIO COM TINTA BRANCA A BADSE DE CAL CAIAÇÃO | D50: M2 | E50: =E48 -> 44 | F50: 1.09 | G50: =F50*1.2521 -> 1.364789 | H50: =G50*E50 -> 60.050716
C51: TOTAL DO ITEM | H51: =SUM(H43:H50) -> 4427.9417
A52: 5.0 | B52: URB-001 | C52: URBANIZAÇÃO
A53: 5.1 | B53: 94995 | C53: EXECUÇÃO DE PASSEIO (CALÇADA) OU PISO DE CONCRETO COM CONCRETO MOLDADO IN LOCO, USINADO, ACABAMENTO CONVENCIONAL, ESPESSURA 8 CM, ARMADO. AF_08/2022 | D53: M2 | E53: =20*1 -> 20 | F53: 491.94 | G53: =F53*1.2521 -> 615.95807 | H53: =G53*E53 -> 12319.161
A54: 5.2 | B54: 94273 | C54: ASSENTAMENTO DE GUIA (MEIO-FIO) EM TRECHO RETO, CONFECCIONADA EM CONCRETO PRÉ-FABRICADO, DIMENSÕES 100X15X13X30 CM (COMPRIMENTO X BASE INFERIOR X BASE SUPERIOR X ALTURA), PARA VIAS URBANAS (USO VIÁRIO). AF_06/2016 | D54: M | E54: 20 | F54: 71.17 | G54: =F54*1.2521 -> 89.111957 | H54: =G54*E54 -> 1782.2391
A55: 5.3 | B55: 99811 | C55: LIMPEZA GERAL DA OBRA | D55: M2 | E55: =20*1.5 -> 30 | F55: 2.93 | G55: =F55*1.2521 -> 3.668653 | H55: =E55*F55 -> 87.9
C56: TOTAL DO ITEM | H56: =SUM(H53:H55) -> 14189.301
C57: TOTAL DA OBRA | H57: =H56+H51+H41+H29+H20 -> 149474.91
B59: VANESSA MONTES MACHADO | D59: Fernando Gonçalves dos Santos
B60: ENGENHEIRA CIVIL | D60: Prefeito Municipal
B61: CREA- MG 70595/D

Sheet MEMORIA DE CALCULO01
A1: PREFEITURA MUNICIPAL DE LARANJAL
A2: CNPJ: 17.947.615/0001-22
A3: Rua: Norberto Berno, 85 – Centro – CEP 36.760-000 – Laranjal – MG
C4: Telefax: (32) 3424-1387 / 3424-1919
B5: PLANILHA ORÇAMENTÁRIA DE CUSTOS
A6: OBRA: | B6: MURO DE CONTENÇÃO DE CONCRETO ARMADO -20 M DE EXTENSÃOX3,5 M DE ALTURA | F6: DATA: | G6: 45357
A7: ENDEREÇO: | B7: RUA PROFESSOR CLÓVIS SALGADO- CENTRO- LARANJAL- MG
A8: REFERÊNCIA: | C8: SINAP 10/2023- desonerada | F8: BDI:25%
H9: BDI 25%
A12: ITEM | B12: CÓDIGO | C12: DESCRIÇÃO | D12: UNID | E12: QUANT. | F12: CÁLCULO DOS QUANTITATIVOS
E13: (A)
C14: MURO DE CONCRETO ARMADO 20X3,5 M
A15: 1 | C15: SERVIÇOS PRELIMINARES
A16: 1.1 | B16: 4813 | C16: PLACA DE OBRA EM CHAPA GALVANIZADA N22 DE 2,00X 1,125 M ADESIVADA | D16: M2 | E16: 2.88 | F16: Placa; 2,00x1,125m = 2,88 m2
A17: 1.2 | B17: 93584 | C17: EXECUÇÃO DE DEPÓSITO EM CANTEIRO DE OBRA EM CHAPA DE MADEIRA COMPENSADA, NÃO INCLUSO MOBILIÁRIO | D17: UM | E17: 6 | F17: área: 3x2= 6,0 m2
A18: 2.1.1 | B18: 99059 | C18: LOCAÇÃO CONVENCIONAL DE OBRAS | D18: M | E18: 20 | F18: comprimento muro; 20 m
A19: 2.1.2 | B19: 102279 | C19: ESCAVAÇÃO MECANIZADA DE VALA COM PROF. ATÉ 1,5 M (MÉDIA ENTRE MONTANTE | D19: M3 | E19: =20*2.5*0.5 -> 25 | F19: volume: 20mx2,5 m de largurax0,5m de altura=25 m2
A20: 2.0 | C20: INFRAESTRUTURA
A21: 2.1 | B21: 100896 | C21: ESTACA ESCAVADA MECANICAMENTE SEM FLUIDO ESTABILIZANTE DIAM 25 CM CONCRETO LANÇADO POR CAMINHÃO BETONEIRA | D21: M | E21: =42*3+7*2.5 -> 143.5 | F21: Quant.: 14 x3 unidades=42 unidadesx3 m profundiadde+7 unidades*2,5 m profundidade=143,50 m | J21: =42/3 -> 14
A22: 2.2 | B22: 94968 | C22: CONCRETO MAGRO PARA LASTRO 1:4,5:4,5 | D22: M3 | E22: =2.5*20*0.05 -> 2.5 | F22: volume: 20m comprimentox2,5m largurax0,05m de espessura:2,50 m3
A23: 2.3 | B23: 96558 | C23: CONCRETAGEM DE SAPATAS E VIGAS COM CONCRETO FCK 30 MPA USINADO AUTO ADENSÁVEL- LANÇAMENTO E ACABAMENTO | D23: M3 | E23: =20*2.5*0.5+4.06 -> 29.06 | F23: Volume: 20m comp. X2,5m largx0,5 alt.+4,06 alvancas conf. Projeto
A24: 2.4 | B24: 92762 | C24: ARMAÇÃO DE PILAR OU VIGA DE ESTRUTURA CONVENCIONAL DE CONCRETO ARMADO UTILIZANDO AÇO CA-50 DE 10,0 MM - MONTAGEM. AF_06/2022 | D24: KG | E24: 240 | F24: Conforme Projeto
A25: 2.5 | B25: 92763 | C25: ARMAÇÃO DE PILAR OU VIGA UTILIZANDO DE AÇO CA50 DE 12,50MM | D25: KG | E25: =3281-E31 -> 1008 | F25: Conforme Projeto
A26: 2.6 | B26: 92759 | C26: ARMAÇÃO DE PILAR OU VIGA UTILIZANDO DE AÇO CA50 DE 5,0MM | D26: KG | E26: =71.5+55 -> 126.5 | F26: Conforme Projeto
A27: 2.7 | B27: 92427 | C27: MONTAGEM E DESMONTAGEM DE FORMAS DE PILARES E ESTRUTURAS SIMILARES, EM CHAPA DE MADEIRA COMPENSADA, 8 UTILIZAÇÕES | D27: M2 | E27: =0.5*20*2 -> 20 | F27: área: 0,5*20m comp x2 lados:20 m2
A28: 3.0 | C28: SUPERESTRURURA
A29: 3.1 | B29: 92427 | C29: MONTAGEM E DESMONTAGEM DE FORMAS DE PILARES E ESTRUTURAS SIMILARES, EM CHAPA DE MADEIRA COMPENSADA, 8 UTILIZAÇÕES | D29: M2 | E29: =3.5*20*2 -> 140 | F29: área: 20mcompx3,5m alturax2 lados=140 m2
A30: 3.2 | B30: 96558 | C30: CONCRETAGEM DE SAPATAS E VIGAS COM CONCRETO FCK 30 MPA USINADO AUTO ADENSÁVEL- LANÇAMENTO E ACABAMENTO | D30: M3 | E30: =1.14*20 -> 22.8 | F30: Concretagem muro: área seção transversal 1,14x20m comprimento: 22,80 m3
A31: 3.3 | B31: 92763 | C31: ARMAÇÃO DE PILAR OU VIGA UTILIZANDO DE AÇO CA50 DE 12,50MM | D31: KG | E31: 2273 | F31: Conforme Projeto
A32: 3.4 | B32: 92764 | C32: ARMAÇÃO DE PILAR OU VIGA UTILIZANDO DE AÇO CA50 DE 16MM | D32: KG | E32: 905 | F32: Conforme Projeto
A33: 3.5 | B33: 98575 | C33: TRATAMENTO DE JUNTA DE DILATAÇÃO, COM TARUGO DE POLIETILENO E SELANTE PU, INCLUSO PREENCHIMENTO COM ESPUMA EXPANSIVA PU. AF_09/2023 | D33: M | E33: =3.5 -> 3.5 | F33: Altura:3,5 m
A34: 3.6 | B34: 102713 | C34: GEOTÊXTIL NÃO TECIDO 100% POLIÉSTER, RESISTÊNCIA A TRAÇÃO DE 14 KN/M (RT - 14), INSTALADO EM DRENO - FORNECIMENTO E INSTALAÇÃO. AF_07/2021 | D34: M2 | E34: =3.5*20 -> 70 | F34: área:3,5 altura x20m comprimento
A35: 3.7 | B35: 96624 | C35: LASTRO COM MATERIAL GRANULAR PEDRA BRUTADA N02 ESP 10 CM | D35: M3 | E35: =20*3.5*0.3 -> 21 | F35: volume: 20m compx 3,5m altx0,3 espessura: 21 m3
A36: 3.8 | B36: 89449 | C36: TUBO PVC 50 MM PARA DRENAGEM | D36: M | E36: 18 | F36: 40 pedaçõs de 45 cm= 18 m
A37: 3.9 | B37: 96385 | C37: EXECUÇÃO E COMPACTAÇÃO DE ATERRO COM SOLO PREDOMINANTEMENTE ARGILOSO - EXCLUSIVE SOLO, ESCAVAÇÃO, CARGA E TRANSPORTE. AF_11/2019 | D37: M3 | E37: =1.2*3.5*20 -> 84 | F37: Volume: 1,2m largurax3,5m alturax20m comprimento:84 m3
A38: 3.10 | B38: 101266 | C38: ESCAVAÇÃO VERTICAL PARA INFRAESTRUTURA, COM CARGA, DESCARGA E TRANSPORTE DE SOLO DE 1ª CATEGORIA, COM ESCAVADEIRA HIDRÁULICA (CAÇAMBA: 0,8 M³ / 111HP), FROTA DE 3 CAMINHÕES BASCULANTES DE 10 M³, DMT ATÉ 1 KM E VELOCIDADE MÉDIA14 KM/H. AF_05/2020 | D38: M3 | E38: =E37 -> 84 | F38: Volume: 1,2m largurax3,5m alturax20m comprimento:84 m3
A39: 4.0 | C39: EXECUÇÃO DE MURETA - GUARDA CORPO h =1,10m
A40: 4.1 | B40: 94971 | C40: CONCRETO ESTRUTURAL VIRADO EM OBRA - FCK 25MPA, TRAÇO 1:2,1:2,5 (CIMENTO, AREIA MÉDIA , BRITA 01) | D40: M3 | E40: ='MEMORIA DE CALCULO'!E4 -> 0.99 | F40: Volume:8 pilares12x25+ 20m viga 15x25=0,99m3
A41: 4.2 | B41: 92761 | C41: ARMAÇÃO DE PILAR OU VIGA UTILIZANDO DE AÇO CA50 DE 8,000MM | D41: KG | E41: ='MEMORIA DE CALCULO'!D13 -> 34.76 | F41: VIGAS 4 ferros 8 mm c=20 mx0,395*1,1=34,76 kg
A42: 4.3 | B42: 92762 | C42: ARMAÇÃO DE PILAR OU VIGA UTILIZANDO DE AÇO CA50 DE 10,000MM | D42: KG | E42: ='MEMORIA DE CALCULO'!C13 -> 23.89024 | F42: PILARES 4 ferros 10 mm c=1,10 m=35,2mx0,617*1,1=23,89 kg
A43: 4.4 | B43: 92759 | C43: ARMAÇÃO DE PILAR OU VIGA UTILIZANDO DE AÇO CA50 DE5,0MM | D43: KG | E43: ='MEMORIA DE CALCULO'!E13 -> 11.464992 | F43: Estribos:pilares e vigas=47 ferros 5.0 mmx0,68 m=67,68*0,154*1,0=11,46 kg
A44: 4.5 | B44: 87472 | C44: ALVENARIA DE VEDAÇÃO DE BLOCO DE CONCRETO 15X19X39, A REVESTIR, PORTANTE BLOCO FCK=4,5MPA | D44: M2 | E44: 20.5 | F44: 20m comprimentox1,1maltura=20,5 m2
A45: 4.6 | B45: 87893 | C45: CHAPISCO COM BRITA FINA 1:2:3 CIMENTO, AREIA E BRITA | D45: M2 | E45: =20*1.1*2 -> 44 | F45: área: 20mx1,1mx2 lados= 44 m2
A46: 4.7 | B46: 87547 | C46: EMBOÇO PARA RECEBIMENTO DE PINTURACOM ARGAMASSA 1:2:8 APLICADO MANUALMENTE ESP 10 MM COM EXECUÇÃO DE TALISCAS | D46: M2 | E46: =20*1.1*2 -> 44 | F46: área: 20mx1,1mx2 lados= 44 m3
A47: 4.8 | B47: 102498 | C47: PINTURA DE MEIO FIO COM TINTA BRANCA A BADSE DE CAL CAIAÇÃO | D47: M2 | E47: =E45 -> 44 | F47: área: 20mx1,1mx2 lados= 44 m3
A48: 5.0 | B48: URB-001 | C48: URBANIZAÇÃO
A49: 5.1 | B49: 94995 | C49: EXECUÇÃO DE PASSEIO (CALÇADA) OU PISO DE CONCRETO COM CONCRETO MOLDADO IN LOCO, USINADO, ACABAMENTO CONVENCIONAL, ESPESSURA 8 CM, ARMADO. AF_08/2022 | D49: M2 | E49: =20*1 -> 20 | F49: área: 20m x1m largura:20 m2
A50: 5.2 | B50: 94273 | C50: ASSENTAMENTO DE GUIA (MEIO-FIO) EM TRECHO RETO, CONFECCIONADA EM CONCRETO PRÉ-FABRICADO, DIMENSÕES 100X15X13X30 CM (COMPRIMENTO X BASE INFERIOR X BASE SUPERIOR X ALTURA), PARA VIAS URBANAS (USO VIÁRIO). AF_06/2016 | D50: M | E50: 20 | F50: comprimento:20 m
A51: 5.3 | B51: 99811 | C51: LIMPEZA GERAL DA OBRA | D51: M2 | E51: =20*1.5 -> 30 | F51: área:20m x1,5m largura
B53: VANESSA MONTES MACHADO | D53: Fernando Gonçalves dos Santos
B54: ENGENHEIRA CIVIL | D54: Prefeito Municipal
B55: CREA- MG 70595/D

Sheet CRONOGRAMA
A1: PREFEITURA MUNICIPAL DE LARANJAL
A2: CNPJ: 17.947.615/0001-22
A3: Rua: Norberto Berno, 85 – Centro – CEP 36.760-000 – Laranjal – MG
A4: Telefax: (32) 3424-1387 / 3424-1919
A5: A N E X O I I
A6: CRONOGRAMA FÍSICO-FINANCEIRO
A7: CONVENENTE: Prefeitura Municipal de Laranjal | D7: VALOR DA OBRA | H7: =ORÇAMENTO!H57 -> 149474.91
A8: OBRA: Execução de Muro e contenção em concreto armado- Rua Professor Clóvis Salgado-Laranjal-MG
A9: ETAPAS | B9: Físico / Financeiro | C9: Mês 1 | D9: Mês 2 | E9: Mês 3 | F9: Mês 4 | G9: Mês 5 | H9: Total
A10: =ORÇAMENTO!C15 -> SERVIÇOS PRELIMINARES | B10: Físico % | C10: 1 | H10: =C10+D10 -> 1
B11: =ORÇAMENTO!H20 -> 10045.536 | C11: =C10*B11 -> 10045.536 | H11: =C11 -> 10045.536
A12: =ORÇAMENTO!C21 -> INFRAESTRUTURA | B12: Físico % | C12: 0.5 | D12: 0.5 | H12: =C12+D12+E12 -> 1
B13: =ORÇAMENTO!H29 -> 57241.26 | C13: =C12*B13 -> 28620.63 | D13: =D12*B13 -> 28620.63 | H13: =C13+D13+E13 -> 57241.26
A14: =ORÇAMENTO!C30 -> SUPERESTRURURA | B14: Físico % | C14: 0.2 | D14: 0.5 | E14: 0.3 | H14: =C14+D14 -> 0.7
B15: =ORÇAMENTO!H41 -> 63570.876 | C15: =C14*B15 -> 12714.175 | D15: =D14*B15 -> 31785.438 | E15: =E14*B15 -> 19071.263 | H15: =C15+D15+E15 -> 63570.876
A16: =ORÇAMENTO!C42 -> EXECUÇÃO DE MURETA - GUARDA CORPO h =1,10m | B16: Físico % | E16: 1 | H16: =C16+D16+E16+F16 -> 1
B17: =ORÇAMENTO!H56 -> 14189.301 | C17: =C16*B17 -> 0 | D17: =D16*B17 -> 0 | E17: =E16*B17 -> 14189.301 | H17: =C17+D17+E17+F17 -> 14189.301
A18: =ORÇAMENTO!C52 -> URBANIZAÇÃO | B18: Físico % | E18: 1 | H18: 1
B19: =ORÇAMENTO!H51 -> 4427.9417 | E19: =E18*B19 -> 4427.9417 | H19: =F19+E19 -> 4427.9417
A20: TOTAL COM BDI DE 25,21% | B20: Físico % | C20: =C21/B21 -> 0.34373889 | D20: =D21/B21 -> 0.40412178 | E20: =E21/B21 -> 0.25213933 | H20: =C20+D20+E20+F20+G20 -> 1
B21: =B19+B17+B15+B13+B11 -> 149474.91 | C21: =C17+C15+C13+C11 -> 51380.341 | D21: =D17+D15+D13 -> 60406.068 | E21: =E19+E17+E15+E13 -> 37688.505 | H21: =C21+D21+E21+F21+G21 -> 149474.91
A23: Responsável Técnico: Data:07/03/2024
A24: Nome: VANESSA MONTES MACHADO ENGENHEIRA CIVIL
A25: CREA- MG 70595/D
A26: Assinatura:

Sheet MEMORIA DE CALCULO
A2: GUARDA CORPO: | C2: 8 PILARES DE 12X25 | E2: =8*0.12*0.25 -> 0.24 | H2: =75/3 -> 25
A3: pilar | B3: viga | C3: 1 VIGA DE 15X25 | E3: =20*0.15*0.25 -> 0.75
C4: CONCRETO | E4: =E3+E2 -> 0.99 | F4: M3 | L4: =20/2.5 -> 8
C5: BLOCO 20 M X1,1 M | E5: =25*1.1-(8*0.25)-(0.25*20) -> 20.5
A6: FERRAGEM | C6: PILARES 4FERROS 10 mm c=1,10 m | G6: =8*4*1.1 -> 35.2 | H6: M | J6: =75/0.2 -> 375
C7: 7 ferros 5.0 mm c= 68 cm | G7: =7*8*0.68 -> 38.08 | H7: M
C8: VIGAS 4FERROS 8 mm c=55 m | G8: =4*20 -> 80 | H8: M
C9: 40 ferros 5.0 mm a cadac 20 c= 74 cm | G9: =40*0.74 -> 29.6 | H9: M
C11: FERRO 10 | D11: FERRO 8 | E11: FERRO5.0
C12: =G6 -> 35.2 | D12: 80 | E12: =G7+G9 -> 67.68
C13: =C12*0.617*1.1 -> 23.89024 | D13: =D12*0.395*1.1 -> 34.76 | E13: =E12*0.154*1.1 -> 11.464992 | F13: KG
A16: CÁLCULO DE FORMAS:
A17: FUNDAÇÃO:
A18: VIGA ALAVANCA 20X40: | C18: =(0.2*2)+(0.4*2) -> 1.2 | D18: =C18*2 -> 2.4 | E18: =D18*19 -> 45.6 | F18: M2 | G18: =E18+E19 -> 81.12
A19: BLOCO B1 18 X | C19: =0.6*0.4*4 -> 0.96 | D19: =C19*37 -> 35.52 | E19: =D19 -> 35.52 | F19: M2
A20: PILARES20X40 | C20: =(0.2*2)+(0.4*2) -> 1.2 | E20: =D20 -> 0 | F20: M2
E21: =SUM(E18:E20) -> 81.12 | F21: M2
A22: SUPERESTRUTURA
A23: V1 20X60 | C23: =0.2*2+0.5*2 -> 1.4 | D23: =C23*68 -> 95.2 | E23: M2 | F23: =D23+D24+D25 -> 359.2
A24: V2 20X51 | C24: =0.2*2+0.2*6 -> 1.6 | D24: =C24*75 -> 120 | E24: M2
A25: V3 20X40 | C25: =0.2*2+0.4*2 -> 1.2 | D25: =C25*120 -> 144 | E25: M2 | F25: =282.6+144 -> 426.6
A26: PILARES | B26: 25X40 | C26: =0.25*2+0.4*2 -> 1.3 | D26: =C26*4*37/2 -> 96.2 | E26: M2
D27: =SUM(D23:D26) -> 455.4
A29: CÁLCULO DE CONCRETO:
A30: FUNDAÇÃO:
A31: SAPATAS | B31: 1,20X1,20X0,4 | C31: =1.2*1.2*0.5 -> 0.72 | D31: =C31*37 -> 26.64 | E31: M3
A32: VIGA ALAVANCA 20X40: | C32: =0.2*0.4*2*19*2 -> 6.08 | D32: =C32*2 -> 12.16
A33: BLOCO B1 18 X | C33: =0.6*0.6 -> 0.36 | D33: =C33*19 -> 6.84 | E33: M3
A34: ESTACAS | C34: =0.125*0.125*3.14*3 -> 0.1471875 | D34: =C34*19 -> 2.7965625 | E34: M3
D35: =SUM(D31:D34) -> 48.436563 | E35: M3
A36: SUPERESTRUTURA
A37: V1 20X60(68M) | C37: =0.2*0.5 -> 0.1 | D37: =C37*68 -> 6.8 | E37: M3 | F37: =D37+D38+D39 -> 25.4
A38: V2 20X50(75M) | C38: =0.2*0.6 -> 0.12 | D38: =C38*75 -> 9 | E38: M3
A39: V3 20X40 (120 M) | C39: =0.2*0.4 -> 0.08 | D39: =C39*(120) -> 9.6 | E39: M3
A40: PILARES 25X40 (161 M) | C40: =0.25*0.4 -> 0.1 | D40: =240*0.25*0.4 -> 24 | E40: M3
D41: =SUM(D37:D40) -> 49.4
A42: ALVENARIA
A43: =489.16-(0.6+0.5+0.4)*75+(0.4*45) -> 394.66
A44: =A43-240*0.25 -> 334.66
